BEGIN:VCALENDAR
VERSION:2.0
PRODID:-//SVP Belp //NONSGML Events //EN
CALSCALE:GREGORIAN
X-WR-CALNAME:SVP Belp
BEGIN:VEVENT
CREATED:20211027T061234Z
UID:1644
DTEND:20220409T000000
DTSTART:20220409T000000
DTSTAMP:20260425T154817Z
LOCATION:
DESCRIPTION:
SUMMARY:Delegiertenversammlung SVP Schweiz
ORGANIZER:
URL;VALUE=URI:https://www.svp-belp.ch/termine/delegiertenversammlung-svp-schweiz-10/
TRANSP:OPAQUE
END:VEVENT
END:VCALENDAR
