BEGIN:VCALENDAR
VERSION:2.0
PRODID:-//SVP Belp //NONSGML Events //EN
CALSCALE:GREGORIAN
X-WR-CALNAME:SVP Belp
BEGIN:VEVENT
CREATED:20240918T070735Z
UID:2432
DTEND:20250819T210000
DTSTART:20250819T200000
DTSTAMP:20260421T093001Z
LOCATION:
DESCRIPTION:
SUMMARY:Delegiertenversammlung SVP Kanton Bern
ORGANIZER:
URL;VALUE=URI:https://www.svp-belp.ch/termine/delegiertenversammlung-svp-kanton-bern-23/
TRANSP:OPAQUE
END:VEVENT
END:VCALENDAR
