BEGIN:VCALENDAR
VERSION:2.0
PRODID:-//SVP Belp //NONSGML Events //EN
CALSCALE:GREGORIAN
X-WR-CALNAME:SVP Belp
BEGIN:VEVENT
CREATED:20240918T070502Z
UID:2435
DTEND:20251219T000000
DTSTART:20251201T000000
DTSTAMP:20260421T104731Z
LOCATION:
DESCRIPTION:
SUMMARY:Start: Eidg. Session
ORGANIZER:
URL;VALUE=URI:https://www.svp-belp.ch/termine/start-eidg-session-20/
TRANSP:OPAQUE
END:VEVENT
END:VCALENDAR
