BEGIN:VCALENDAR
VERSION:2.0
PRODID:-//SVP Belp //NONSGML Events //EN
CALSCALE:GREGORIAN
X-WR-CALNAME:SVP Belp
BEGIN:VEVENT
CREATED:20240925T081254Z
UID:2461
DTEND:20241002T210000
DTSTART:20241002T200000
DTSTAMP:20260425T161821Z
LOCATION:Hotel Weisses Kreuz\, Jungfraustrasse 2\, 3800 Interlaken
DESCRIPTION:
SUMMARY:SVP Oberland &#8211\; Sessionsrückblick
ORGANIZER:
URL;VALUE=URI:https://www.svp-belp.ch/termine/svp-oberland-sessionsrueckblick/
TRANSP:OPAQUE
END:VEVENT
END:VCALENDAR
