BEGIN:VCALENDAR
VERSION:2.0
PRODID:-//SVP Belp //NONSGML Events //EN
CALSCALE:GREGORIAN
X-WR-CALNAME:SVP Belp
BEGIN:VEVENT
CREATED:20241120T091133Z
UID:2478
DTEND:20241201T000000
DTSTART:20241130T000000
DTSTAMP:20260425T110513Z
LOCATION:Sternenplatz in Worb
DESCRIPTION:
SUMMARY:SVP Worb &#8211\; Weihnachtsmärit
ORGANIZER:
URL;VALUE=URI:https://www.svp-belp.ch/termine/svp-worb-weihnachtsmaerit/
TRANSP:OPAQUE
END:VEVENT
END:VCALENDAR
